Workbook
Name _Toc430768444: 'Anlage Ausland'!#REF!
Name _Toc430768444: 'Anlage Exkursion'!#REF!
Name _Toc430768444: 'Anlage Inland'!#REF!
Name _Toc430768445: 'Anlage Ausland'!#REF!
Name _Toc430768445: 'Anlage Exkursion'!#REF!
Name _Toc430768445: 'Anlage Inland'!#REF!
Name _Toc430768446: 'Anlage Ausland'!#REF!
Name _Toc430768446: 'Anlage Exkursion'!#REF!
Name _Toc430768446: 'Anlage Inland'!#REF!
Name _Toc430768447: 'Anlage Ausland'!#REF!
Name _Toc430768447: 'Anlage Exkursion'!#REF!
Name _Toc430768447: 'Anlage Inland'!#REF!
Name _Toc442264085: 'Anlage Ausland'!#REF!
Name _Toc442264085: 'Anlage Exkursion'!$AF$3
Name _Toc442264085: 'Anlage Inland'!$AF$3

Sheet Reisekosten Fortbildung
A3: Reisekostenabrechnung Fortbildung
A7: Rechnungsempfänger: | I7: SCMT GmbH, Gottlieb-Manz-Str. 10, 70794 Filderstadt
A10: Rechnungssteller:
A12: Nachname, Vorname: | T12: Kreditinstitut:
A14: Straße/Nr.: | T14: IBAN:
A16: Land/PLZ/Wohnort: | T16: BIC:
A21: Projektunternehmen:
A23: Straße/Nr.:
A25: Land/PLZ/Ort:
A29: Reiseanlass: | H29: Dienstreise Fortbildung
A31: Datum von: | T31: Datum bis:
A34: Reisekosten werden gemäß dem Leitfaden für Reisekostenabrechnungen der SCMT GmbH erstattet:
A35: Siehe separate Aufstellung!
A38: Erklärung:
A40: Der Rechnungssteller versichert, dass alle Angaben korrekt und alle Belege beigefügt sind. Ihm ist bekannt, dass er
A41: für alle Folgen von falschen oder unvollständigen Angaben haftet und für eventuelle Mehrkosten selbst aufkommt.
A44: Datum | H44: Unterschrift Rechnungssteller

Sheet Anlage Inland
BR1: ,
AK2: Achtung dieser Teil wird nicht ausgedruckt, dient nur zur Ermittlung der Daten!
A3: Anlage zur Reisekostenabrechnung Fortbildung Inland | AK3: Nur die gelb markierten Felder können beschriftet werden, die Restlichen werden durch die Angaben ermittelt!
A5: Kilometergeld: | AK5: Bitte beachten:
AK7: Reisestart ist immer das Projektunternehmen (die erste Tätigkeitsstätte)
B8: Von Reisestart: | I8: =IF(BE9="x",CONCATENATE('Reisekosten Fortbildung'!H14,BR1,'Reisekosten Fortbildung'!H16),CONCATENATE('Reisekosten Fortbildung'!H21,BR1,'Reisekosten Fortbildung'!H23,BR1,'Reisekosten Fortbildung'!H25)) -> , , | AK8: Wird vom Deckblatt übernommen!
AL9: Ausnahme: Wohnort entspricht dem Ort des Reiseziels! | BF9: wenn zutrifft, bitte ankreuzen!
AL10: In diesem Fall dürfen die täglichen km zwischen diesen beiden Orten abgerechnet werden!
AK12: Bitte hier Reiseziel ankreuzen!
B14: bis Reiseziel: | I14: =IF(AO14="x",AQ14,IF(AO16="x",AQ16,IF(AO18="x",AQ18,IF(AO20="x",AQ20,IF(AO22="x",AQ22))))) -> FALSE | AK14: Berlin | AQ14: IGZ Innovations- und Gründerzentrum, Rudower Chaussee 29, 12489 Berlin
AK16: Stuttgart | AQ16: SHMT, Filderhauptstr. 142, 70599 Stuttgart
AK18: Filderstadt | AQ18: STI School of Management and Technology, Gottlieb-Manz-Str. 12, 70794 Filderstadt
AK20: Magdeburg | AQ20: Experimentelle Fabrik, Sandtorstraße 23, 39106 Magdeburg
AK22: Anderer Ort
AQ23: Bitte vollständige Adresse eintragen! (Name/Straße/Hausnummer/PLZ/Ort)
B25: Anzahl km mit Privat-Pkw | L25: einfache Strecke | R25: =ROUND(AT25,0) -> 0 | U25: km | AK25: Bitte hier eintragen! | AV25: km einfache Strecke (kürzeste Verbindung gemäß Google-Maps)
H27: nur 1x Hin- und Rückfahrt | R27: =ROUND((R25*2),0) -> 0 | U27: km | Y27: je 0,20 € | AC27: EUR | AE27: =IF(AW29>0,0,R27*0.2) -> 0 | AQ27: nur einmalig Hin- und Rückfahrt
B29: bzw. an | E29: =AW29 -> 0 | H29: Tagen | K29: =R25*2 -> 0 | N29: km | P29: insgesamt | T29: =E29*K29 -> 0 | W29: km | Y29: je 0,20 € | AC29: EUR | AE29: =IF(BT27="x",0,T29*0.2) -> 0 | AQ29: oder Ausnahme an | AX29: Tagen zurückgelegt, bei täglicher Anfahrt siehe oben
A31: Übernachtungskosten ohne Beleg: | AK31: Bitte hier eintragen! | AT31: Unabhängig davon ob Variante 1 oder 2 in Anspruch genommen wird!
B32: Verpflegungspauschale
B33: Tagessatz 14,- € für den An- und Abreisetag im Inland
B34: Tagessatz 28,- € für volle Präsenztage im Inland bei einer Abwesenheitsdauer von mind. 24h je Kalendertag. | AO34: Seminarstart | AY34: letzter Seminartag
B35: Übernachtungspauschale | AO35: eine Vorübernachtung wird automatisch berücksichtigt
B36: Tagessatz 20,- € Pauschbetrag für Übernachtungskosten | AO36: siehe Anreisetag, dieser mus mit 'Datum vom:' übereinstimmen. Bitte Seite 1 anpassen!
B38: Verpflegungspauschale | L38: Anreisetag | Q38: =IF(ISBLANK(AT34),"",AT34-1) | Y38: 14 | Z38: € | AC38: EUR | AE38: =SUMIF(Q38:T38,">0",Y38) -> 0
B40: Zeitraum von | F40: =IF(ISBLANK(AT34),"",Q38+1) | J40: bis | L40: =IF(ISBLANK(BF34),"",Q42-1) | R40: =IF((AE38=0),0,L40-F40+1) -> 0 | T40: Tage | X40: je | Y40: 28 | Z40: € | AC40: EUR | AE40: =IF(ISBLANK(R40),0,R40*Y40) -> 0 | AS40: Bitte hier die Variante durch ankreuzen auswählen!
L42: Abreisetag | Q42: =IF(ISBLANK(BF34),"",BF34) | Y42: 14 | Z42: € | AC42: EUR | AE42: =SUMIF(Q42:T42,">0",Y42) -> 0 | AN42: Variante 1 | AS42: o | AT42: Abrechnung der Übernachtungskosten ohne Beleg
B44: Übernachtungspauschale | O44: =IF(R40>0,R40+1,0) -> 0 | Q44: Tage inklusive Vorübernachtung | AC44: EUR | AE44: =IF(ISBLANK(O44),0,O44*20) -> 0
L46: Gesamtsumme Übernachtungskosten ohne Beleg | AC46: EUR | AE46: =IF(AND(AS42="x",AS51="o"),SUM(AE38:AH44),0) -> 0
AN47: oder | AR47: Für die korrekte Berechnung muss ein Feld mit x und das andere mit o befüllt sein!
A48: Übernachtungskosten gegen Beleg
B50: Belegdatum | G50: Name der Unterbringung, Rechnungsnummer | AF50: Betrag
AC51: EUR | AE51: 0 | AN51: Variante 2 | AS51: o | AT51: Abrechnung der Übernachtungskosten mit Beleg
B53: Anzurechnende Übernachtungskosten | O53: =IF(AE53>0,R40+1,0) -> 0 | Q53: Tage inklusive Vorübernachtung | AC53: EUR | AE53: =IF(((R40+1)*75)>AE51,AE51,IF(AS51="x",(R40+1)*75,0)) -> 0 | AO53: Bei Übernachtungskosten gegen Beleg werden von SCMT maximal 75 EUR je Tag erstattet!
L55: Gesamtsumme Übernachtungskosten mit Beleg | AC55: EUR | AE55: =IF(AND(AS51="x",AS42="o"),AE53,0) -> 0
H59: Gesamtsumme Reisekosten | AC59: EUR | AE59: ='Anlage Ausland'!AE45:AH45+AE27+AE29+AE46+AE55+'Anlage Exkursion'!AE21:AH21+'Anlage Exkursion'!AE23:AH23 -> 0

Sheet Anlage Exkursion
BR1: ,
AK2: Achtung dieser Teil wird nicht ausgedruckt, dient nur zur Ermittlung der Daten!
A3: Anlage zur Reisekostenabrechnung Fortbildung Exkursion | AK3: Nur die gelb markierten Felder können beschriftet werden, die Restlichen werden durch die Angaben ermittelt!
A5: Kilometergeld: | AK5: Bitte beachten:
AK7: Reisestart muss manuell ins "gelbe" Feld eingetragen werden!
B8: Von Reisestart:
AK11: Bitte hier Reiseziel eintragen
B13: bis Reiseziel: | I13: =IF(AO13="x",AQ13) -> FALSE | AK13: Anderer Ort
AQ15: Bitte vollständige Adresse eintragen! (Name/Straße/Hausnummer/PLZ/Ort)
B19: Anzahl km mit Privat-Pkw | L19: einfache Strecke | R19: =ROUND(AT19,0) -> 0 | U19: km | AK19: Bitte hier eintragen! | AV19: km einfache Strecke (kürzeste Verbindung gemäß Google-Maps)
H21: nur 1x Hin- und Rückfahrt | R21: =ROUND((R19*2),0) -> 0 | U21: km | Y21: je 0,20 € | AC21: EUR | AE21: =IF(AW23>0,0,R21*0.2) -> 0 | AQ21: nur einmalig Hin- und Rückfahrt
B23: bzw. an | E23: =AW23 -> 0 | H23: Tagen | K23: =R19*2 -> 0 | N23: km | P23: insgesamt | T23: =E23*K23 -> 0 | W23: km | Y23: je 0,20 € | AC23: EUR | AE23: =IF(BT21="x",0,T23*0.2) -> 0 | AQ23: oder Ausnahme an | AX23: Tagen zurückgelegt, bei täglicher Anfahrt siehe oben
H27: Gesamtsumme Reisekosten | AC27: EUR | AE27: ='Anlage Inland'!AE27:AH27+'Anlage Inland'!AE29:AH29+'Anlage Inland'!AE46:AH46+'Anlage Inland'!AE55:AH55+'Anlage Ausland'!AE45:AH45+AE21+AE23 -> 0

Sheet Anlage Ausland
BR1: ,
AK2: Achtung dieser Teil wird nicht ausgedruckt, dient nur zur Ermittlung der Daten!
A3: Anlage zur Reisekostenabrechnung Fortbildung Ausland
AK4: Nur die gelb markierten Felder können beschriftet werden, die Restlichen werden
AK5: durch die Angaben ermittelt:
AK6: Bitte hier Reiseziel ankreuzen!
B8: Von Reisestart: | I8: =CONCATENATE('Reisekosten Fortbildung'!H21,BR1,'Reisekosten Fortbildung'!H23,BR1,'Reisekosten Fortbildung'!H25) -> , , | AK8: USA | AQ8: George Mason University, 4400 University Dr, Fairfax, VA 22030, Vereinigte Staaten
AK10: Japan | AQ10: Tokyo University, 183-0057 Tokyo, Fuchu, Harumicho, 3−8-1, Japan
AK12: Anderer Ort
B14: bis Reiseziel: | I14: =IF(AO8="x",AQ8,IF(AO10="x",AQ10,IF(AO12="x",AQ12))) -> FALSE | AQ14: Bitte vollständige Adresse eintragen! (Name/Straße/Hausnummer/PLZ/Ort)
A20: Kilometergeld: | AK20: Bitte beachten: Reisestart ist immer das Projektunternehmen (die erste Tätigkeitsstätte)
B22: Anzahl km mit Privat-Pkw (gefahrene Strecke) | R22: =AY22 -> 0 | U22: km | X22: je 0,20 € | AC22: EUR | AE22: =R22*0.2 -> 0 | AK22: Hier gefahrene km eintragen! | BA22: (kürzeste Verbindung gemäß Google-Maps)
F24: von | H24: =I8 -> , , | AO24: von | AQ24: (Anschrift des Projektunternehmens, wird vom Deckblatt übernommen!)
F26: nach | H26: =AQ26 -> 0 | AO26: nach
AQ27: Bitte vollständige Adresse eintragen! (Name/Straße/Hausnummer/PLZ/Ort)
A30: Auslagen (z.B. Taxi, Parken, Porto, Flugticket, Hotelrechnugen etc. - lt. Originalbelege) | AK30: Bitte beachten:
B32: Belegdatum | I32: Art der Auslage / Verwendungszweck | AF32: Betrag | AK32: Wird von der Gruppenbuchung abgewichen, ist eine Kopie der Flugrechnung zur Abrechnung einzureichen.
AK33: Der Rechnungsbetrag wird hier maximal in Höhe des Höchstbetrages erstattet.
A34: 1 | AC34: EUR
A35: 2 | AC35: EUR | AK35: Bei Auslandsreisen mit Fremdwährung muss auf jedem einzelnen Beleg der Tagesumrechnungskurs,
A36: 3 | AC36: EUR | AK36: mit dem abgerechnet wurde, entsprechend belegt werden, z.B. mit einem Ausdruck von www.oanda.com
A37: 4 | AC37: EUR
A38: 5 | AC38: EUR | AK38: Ist ein reiseindividueller Höchstbetrag (Auslandspauschale) festgelegt?
A39: 6 | AC39: EUR
A40: 7 | AC40: EUR | AK40: Bitte ankreuzen! | AR40: Angaben sind notwendig für die Ermittlung der anzurechnenden Reisekosten!
A41: 8 | AC41: EUR
AP42: ja | AS42: Bitte hier die Höhe eintragen! | BG42: EUR
I43: Gesamtsumme lt. Belege | AC43: EUR | AE43: =IF(SUM(AE34:AH41)<=0,0,IF(SUM(AE34:AH41)>0,SUM(AE34:AH41))) -> 0
AP44: nein
I45: Anzurechnende Auslagen einschl. Kilometergeld | AC45: EUR | AE45: =IF(AND(AO42="x",(AE43+AE22)>BD42),BD42,(AE43+AE22)) -> 0
AO46: =_xlfn.XOR(AO42="x",AO44="x") -> FALSE | AS46: Bei "FALSCH" bitte prüfen ob Angaben zur Auslandpauschale richtig eingetragen sind!
I49: Gesamtsumme Reisekosten | AC49: EUR | AE49: =AE45+'Anlage Inland'!AE27:AH27+'Anlage Inland'!AE29:AH29+'Anlage Inland'!AE46:AH46+'Anlage Inland'!AE55:AH55+'Anlage Exkursion'!AE21:AH21+'Anlage Exkursion'!AE23:AH23 -> 0
